BEGIN:VCALENDAR
VERSION:2.0
PRODID:icalendar-ruby
CALSCALE:GREGORIAN
METHOD:PUBLISH
BEGIN:VEVENT
DTSTAMP:20260421T211707Z
UID:26-1487550@amherstwesleyan.com
DTSTART:20260920T133000Z
DTEND:20260920T143000Z
CLASS:PUBLIC
CREATED:20260421T155728
DESCRIPTION:Join us on Sundays for our weekly Worship Service and our Konne
 ct Kids program!\nService starts at 10:30am!
LAST-MODIFIED:20260421T155728
LOCATION:Amherst Wesleyan Church
SUMMARY:Worship & Konnect Kids
URL;VALUE=URI:https://www.amherstwesleyan.com/events/worship-konnect-kids/2
 026-09-20
END:VEVENT
END:VCALENDAR
