BEGIN:VCALENDAR
VERSION:2.0
PRODID:icalendar-ruby
CALSCALE:GREGORIAN
METHOD:PUBLISH
BEGIN:VEVENT
DTSTAMP:20260421T141539Z
UID:26-1485790@amherstwesleyan.com
DTSTART:20260823T133000Z
DTEND:20260823T143000Z
CLASS:PUBLIC
CREATED:20260421T104141
DESCRIPTION:Join us on Sundays for our weekly Worship Service and our Konne
 ct Kids program!\nService starts at 10:30am!
LAST-MODIFIED:20260421T104141
LOCATION:Amherst Wesleyan Church
SUMMARY:Worship & Konnect Kids
URL;VALUE=URI:https://www.amherstwesleyan.com/events/worship-konnect-kids/2
 026-08-23
END:VEVENT
END:VCALENDAR
