BEGIN:VCALENDAR
VERSION:2.0
PRODID:icalendar-ruby
CALSCALE:GREGORIAN
METHOD:PUBLISH
BEGIN:VEVENT
DTSTAMP:20260421T124509Z
UID:26-1484911@amherstwesleyan.com
DTSTART:20260816T133000Z
DTEND:20260816T143000Z
CLASS:PUBLIC
CREATED:20260421T080601
DESCRIPTION:Join us on Sundays for our weekly Worship Service and our Konne
 ct Kids program!\nService starts at 10:30am!
LAST-MODIFIED:20260421T080601
LOCATION:Amherst Wesleyan Church
SUMMARY:Worship & Konnect Kids
URL;VALUE=URI:https://www.amherstwesleyan.com/events/worship-konnect-kids/2
 026-08-16
END:VEVENT
END:VCALENDAR
