BEGIN:VCALENDAR
VERSION:2.0
PRODID:icalendar-ruby
CALSCALE:GREGORIAN
METHOD:PUBLISH
BEGIN:VEVENT
DTSTAMP:20260422T073010Z
UID:108-1489683@amherstwesleyan.com
DTSTART:20260915T220000Z
DTEND:20260915T230000Z
CLASS:PUBLIC
CREATED:20260421T211313
DESCRIPTION:Tuesdays 7pm - AWC Downstairs\nCome learn English and about lif
 e in Canada. This is open to everyone. Participants may be asked to cover 
 the cost of workbooks\, but if for some reason you are unable to cover tha
 t cost\, you can still participate. We want to make this course available 
 to everyone regardless of their economic situation.
LAST-MODIFIED:20260421T211313
LOCATION:
SUMMARY:English as a Second Language
URL;VALUE=URI:https://www.amherstwesleyan.com/events/english-as-a-second-la
 nguage/2026-09-15
ATTACH;FILENAME=ESL.jpg;FMTTYPE=image/jpeg:https://dq5pwpg1q8ru0.cloudfront
 .net/2025/10/01/19/11/04/e4a3ec62-c274-4dee-87de-51559b1b5d4b/ESL.jpg
END:VEVENT
END:VCALENDAR
